BEGIN:VCALENDAR
VERSION:2.0
PRODID:-//Ladrido Creativo - ECPv6.15.18//NONSGML v1.0//EN
CALSCALE:GREGORIAN
METHOD:PUBLISH
X-ORIGINAL-URL:https://ladridocreativo.com
X-WR-CALDESC:Eventos para Ladrido Creativo
REFRESH-INTERVAL;VALUE=DURATION:PT1H
X-Robots-Tag:noindex
X-PUBLISHED-TTL:PT1H
BEGIN:VTIMEZONE
TZID:America/Mexico_City
BEGIN:STANDARD
TZOFFSETFROM:-0600
TZOFFSETTO:-0600
TZNAME:CST
DTSTART:20250101T000000
END:STANDARD
END:VTIMEZONE
BEGIN:VEVENT
DTSTART;TZID=America/Mexico_City:20260404T000000
DTEND;TZID=America/Mexico_City:20260404T235959
DTSTAMP:20260420T211621
CREATED:20260331T040323Z
LAST-MODIFIED:20260331T040323Z
UID:493-1775260800-1775347199@ladridocreativo.com
SUMMARY:Ruta de niebla
DESCRIPTION:Ven y recorre el Cañon el Cañón de Pextlan\, el pueblo mágico de Xico y disfruta de la vida nocturna de Xalapa junto con la Manada de Niebla.\nMás información en su instagram.
URL:https://ladridocreativo.com/event/ruta-de-niebla/
CATEGORIES:fiesta,senderismo,Xalapa
END:VEVENT
BEGIN:VEVENT
DTSTART;TZID=America/Mexico_City:20260404T170000
DTEND;TZID=America/Mexico_City:20260404T190000
DTSTAMP:20260420T211621
CREATED:20260401T014742Z
LAST-MODIFIED:20260401T015026Z
UID:531-1775322000-1775329200@ladridocreativo.com
SUMMARY:Pasarela Pup + Arma tus propios accesorios
DESCRIPTION:Puppys de Cemita realizará una colaboración con diferentes marcas para crear collares y pulseras. \nMás info en su instagram.
URL:https://ladridocreativo.com/event/pasarela-pup-arma-tus-propios-accesorios/
CATEGORIES:fiesta,Puebla,taller
END:VEVENT
END:VCALENDAR