BEGIN:VCALENDAR
VERSION:2.0
PRODID:-//Ladrido Creativo - ECPv6.15.18//NONSGML v1.0//EN
CALSCALE:GREGORIAN
METHOD:PUBLISH
X-ORIGINAL-URL:https://ladridocreativo.com
X-WR-CALDESC:Eventos para Ladrido Creativo
REFRESH-INTERVAL;VALUE=DURATION:PT1H
X-Robots-Tag:noindex
X-PUBLISHED-TTL:PT1H
BEGIN:VTIMEZONE
TZID:America/Mexico_City
BEGIN:STANDARD
TZOFFSETFROM:-0600
TZOFFSETTO:-0600
TZNAME:CST
DTSTART:20250101T000000
END:STANDARD
END:VTIMEZONE
BEGIN:VTIMEZONE
TZID:America/Merida
BEGIN:STANDARD
TZOFFSETFROM:-0600
TZOFFSETTO:-0600
TZNAME:CST
DTSTART:20250101T000000
END:STANDARD
END:VTIMEZONE
BEGIN:VEVENT
DTSTART;TZID=America/Mexico_City:20260404T000000
DTEND;TZID=America/Mexico_City:20260404T235959
DTSTAMP:20260420T225830
CREATED:20260331T040323Z
LAST-MODIFIED:20260331T040323Z
UID:493-1775260800-1775347199@ladridocreativo.com
SUMMARY:Ruta de niebla
DESCRIPTION:Ven y recorre el Cañon el Cañón de Pextlan\, el pueblo mágico de Xico y disfruta de la vida nocturna de Xalapa junto con la Manada de Niebla.\nMás información en su instagram.
URL:https://ladridocreativo.com/event/ruta-de-niebla/
CATEGORIES:fiesta,senderismo,Xalapa
END:VEVENT
BEGIN:VEVENT
DTSTART;TZID=America/Mexico_City:20260404T170000
DTEND;TZID=America/Mexico_City:20260404T190000
DTSTAMP:20260420T225830
CREATED:20260401T014742Z
LAST-MODIFIED:20260401T015026Z
UID:531-1775322000-1775329200@ladridocreativo.com
SUMMARY:Pasarela Pup + Arma tus propios accesorios
DESCRIPTION:Puppys de Cemita realizará una colaboración con diferentes marcas para crear collares y pulseras. \nMás info en su instagram.
URL:https://ladridocreativo.com/event/pasarela-pup-arma-tus-propios-accesorios/
CATEGORIES:fiesta,Puebla,taller
END:VEVENT
BEGIN:VEVENT
DTSTART;TZID=America/Mexico_City:20260411T150000
DTEND;TZID=America/Mexico_City:20260411T190000
DTSTAMP:20260420T225830
CREATED:20260331T042022Z
LAST-MODIFIED:20260331T042022Z
UID:521-1775919600-1775934000@ladridocreativo.com
SUMMARY:Shibari para Pups
DESCRIPTION:En este taller podrás aprender técnicas de shibari enfocadas en Pup Play. \nMás información vía instagram.
URL:https://ladridocreativo.com/event/shibari-para-pups/
LOCATION:Kniki MX
CATEGORIES:taller
END:VEVENT
BEGIN:VEVENT
DTSTART;TZID=America/Mexico_City:20260412T060000
DTEND;TZID=America/Mexico_City:20260412T170000
DTSTAMP:20260420T225830
CREATED:20260331T030316Z
LAST-MODIFIED:20260331T035259Z
UID:438-1775973600-1776013200@ladridocreativo.com
SUMMARY:Senderismo LGBTQ+
DESCRIPTION:Escala con la Manada de Cachorros Monterrey y Senderismo LGBTQ+ \nVisita su instagram para más información
URL:https://ladridocreativo.com/event/senderismo-lgbtq/
LOCATION:Media Luna
CATEGORIES:senderismo
END:VEVENT
BEGIN:VEVENT
DTSTART;TZID=America/Merida:20260412T120000
DTEND;TZID=America/Merida:20260412T170000
DTSTAMP:20260420T225830
CREATED:20260331T040645Z
LAST-MODIFIED:20260401T014521Z
UID:498-1775995200-1776013200@ladridocreativo.com
SUMMARY:Salida a la plaza
DESCRIPTION:Disfruta junto con la Jauría Hunab Ku de una visita social. \nMás información en su instagram 
URL:https://ladridocreativo.com/event/salida-a-la-plaza/
CATEGORIES:Mérida,salida
END:VEVENT
BEGIN:VEVENT
DTSTART;TZID=America/Mexico_City:20260415T180000
DTEND;TZID=America/Mexico_City:20260415T210000
DTSTAMP:20260420T225830
CREATED:20260401T014937Z
LAST-MODIFIED:20260401T014937Z
UID:534-1776276000-1776286800@ladridocreativo.com
SUMMARY:Caminata Puppy en Glow México
DESCRIPTION:Puppys de Cemita realizará una caminata en Glow México (Festival de Luz\, Arte y Tecnología). \n 
URL:https://ladridocreativo.com/event/caminata-puppy-en-glow-mexico/
CATEGORIES:Puebla,puppy walk
END:VEVENT
BEGIN:VEVENT
DTSTART;TZID=America/Mexico_City:20260417T210000
DTEND;TZID=America/Mexico_City:20260417T210000
DTSTAMP:20260420T225830
CREATED:20260331T034840Z
LAST-MODIFIED:20260331T035346Z
UID:477-1776459600-1776459600@ladridocreativo.com
SUMMARY:Puppy Time
DESCRIPTION:Junto con la Manada Cachorros Monterrey ven a festejar a los cumpleañeros del mes. \nVisita su instagram para más información.
URL:https://ladridocreativo.com/event/puppy-time/
LOCATION:Bar Bruth 41
CATEGORIES:fiesta
END:VEVENT
BEGIN:VEVENT
DTSTART;TZID=America/Mexico_City:20260418T000000
DTEND;TZID=America/Mexico_City:20260418T235959
DTSTAMP:20260420T225830
CREATED:20260331T035116Z
LAST-MODIFIED:20260331T035449Z
UID:481-1776470400-1776556799@ladridocreativo.com
SUMMARY:CarnaBear Underwear
DESCRIPTION:Disfruta junto con la manada de Cachorros Monterrey y Cannibal.MTY. \nVisita su instagram para más información
URL:https://ladridocreativo.com/event/carnabear-underwear/
CATEGORIES:fiesta
END:VEVENT
BEGIN:VEVENT
DTSTART;TZID=America/Mexico_City:20260418T090000
DTEND;TZID=America/Mexico_City:20260418T170000
DTSTAMP:20260420T225830
CREATED:20260331T041512Z
LAST-MODIFIED:20260331T041512Z
UID:509-1776502800-1776531600@ladridocreativo.com
SUMMARY:Meeting en Ciudad Talavera
DESCRIPTION:Comparte con las comunidades de Puebla y el Mr. Puppy México 2026. \nMás información en su instagram.
URL:https://ladridocreativo.com/event/meeting-en-ciudad-talavera/
LOCATION:Balneario Los Ahuehuetes
CATEGORIES:salida
END:VEVENT
BEGIN:VEVENT
DTSTART;TZID=America/Mexico_City:20260419T000000
DTEND;TZID=America/Mexico_City:20260419T235959
DTSTAMP:20260420T225830
CREATED:20260331T040847Z
LAST-MODIFIED:20260331T040847Z
UID:502-1776556800-1776643199@ladridocreativo.com
SUMMARY:Show N Tell Virtual
DESCRIPTION:Comparte junto con la Jauría Hunab Ku tus gustos. \nMás información en su instagram. 
URL:https://ladridocreativo.com/event/show-n-tell-virtual/
CATEGORIES:Mérida,virtual
END:VEVENT
BEGIN:VEVENT
DTSTART;TZID=America/Mexico_City:20260425T200000
DTEND;TZID=America/Mexico_City:20260426T090000
DTSTAMP:20260420T225830
CREATED:20260331T035752Z
LAST-MODIFIED:20260331T035938Z
UID:488-1777147200-1777194000@ladridocreativo.com
SUMMARY:Pet Fest MTY
DESCRIPTION:Entrega de bandas honoríficas de pet & handler méxico. \nEvento de la Manada de Cachorros Monterrey. Más información en su instagram
URL:https://ladridocreativo.com/event/pet-fest-mty/
LOCATION:Quinta Gran Sabino
CATEGORIES:fiesta
END:VEVENT
BEGIN:VEVENT
DTSTART;TZID=America/Mexico_City:20260426T000000
DTEND;TZID=America/Mexico_City:20260426T235959
DTSTAMP:20260420T225830
CREATED:20260331T041043Z
LAST-MODIFIED:20260331T041043Z
UID:506-1777161600-1777247999@ladridocreativo.com
SUMMARY:Mosh
DESCRIPTION:Ven y comparte con la Jauría Hunab Ku de una Mosh. \nMás información en su instagram.
URL:https://ladridocreativo.com/event/mosh/
CATEGORIES:Mérida,mosh
END:VEVENT
END:VCALENDAR